BEGIN:VCALENDAR
VERSION:2.0
PRODID:-//Finger Lakes Library System - ECPv6.15.18//NONSGML v1.0//EN
CALSCALE:GREGORIAN
METHOD:PUBLISH
X-WR-CALNAME:Finger Lakes Library System
X-ORIGINAL-URL:https://www.flls.org
X-WR-CALDESC:Events for Finger Lakes Library System
REFRESH-INTERVAL;VALUE=DURATION:PT1H
X-Robots-Tag:noindex
X-PUBLISHED-TTL:PT1H
BEGIN:VTIMEZONE
TZID:America/New_York
BEGIN:DAYLIGHT
TZOFFSETFROM:-0500
TZOFFSETTO:-0400
TZNAME:EDT
DTSTART:20250309T070000
END:DAYLIGHT
BEGIN:STANDARD
TZOFFSETFROM:-0400
TZOFFSETTO:-0500
TZNAME:EST
DTSTART:20251102T060000
END:STANDARD
BEGIN:DAYLIGHT
TZOFFSETFROM:-0500
TZOFFSETTO:-0400
TZNAME:EDT
DTSTART:20260308T070000
END:DAYLIGHT
BEGIN:STANDARD
TZOFFSETFROM:-0400
TZOFFSETTO:-0500
TZNAME:EST
DTSTART:20261101T060000
END:STANDARD
BEGIN:DAYLIGHT
TZOFFSETFROM:-0500
TZOFFSETTO:-0400
TZNAME:EDT
DTSTART:20270314T070000
END:DAYLIGHT
BEGIN:STANDARD
TZOFFSETFROM:-0400
TZOFFSETTO:-0500
TZNAME:EST
DTSTART:20271107T060000
END:STANDARD
END:VTIMEZONE
BEGIN:VEVENT
DTSTART;VALUE=DATE:20260525
DTEND;VALUE=DATE:20260526
DTSTAMP:20260419T130352
CREATED:20251121T160334Z
LAST-MODIFIED:20251121T161357Z
UID:22541-1779667200-1779753599@www.flls.org
SUMMARY:Memorial Day
DESCRIPTION:The Finger Lakes Library System offices will be closed for Memorial Day holiday.
URL:https://www.flls.org/singleevent/memorial-day-2/
LOCATION:Finger Lakes Library System Office\, 1300 Dryden Road\, Ithaca\, 14850\, United States
CATEGORIES:Holiday
END:VEVENT
END:VCALENDAR