BEGIN:VCALENDAR
VERSION:2.0
PRODID:-//Finger Lakes Library System - ECPv6.15.18//NONSGML v1.0//EN
CALSCALE:GREGORIAN
METHOD:PUBLISH
X-WR-CALNAME:Finger Lakes Library System
X-ORIGINAL-URL:https://www.flls.org
X-WR-CALDESC:Events for Finger Lakes Library System
REFRESH-INTERVAL;VALUE=DURATION:PT1H
X-Robots-Tag:noindex
X-PUBLISHED-TTL:PT1H
BEGIN:VTIMEZONE
TZID:America/New_York
BEGIN:DAYLIGHT
TZOFFSETFROM:-0500
TZOFFSETTO:-0400
TZNAME:EDT
DTSTART:20240310T070000
END:DAYLIGHT
BEGIN:STANDARD
TZOFFSETFROM:-0400
TZOFFSETTO:-0500
TZNAME:EST
DTSTART:20241103T060000
END:STANDARD
BEGIN:DAYLIGHT
TZOFFSETFROM:-0500
TZOFFSETTO:-0400
TZNAME:EDT
DTSTART:20250309T070000
END:DAYLIGHT
BEGIN:STANDARD
TZOFFSETFROM:-0400
TZOFFSETTO:-0500
TZNAME:EST
DTSTART:20251102T060000
END:STANDARD
BEGIN:DAYLIGHT
TZOFFSETFROM:-0500
TZOFFSETTO:-0400
TZNAME:EDT
DTSTART:20260308T070000
END:DAYLIGHT
BEGIN:STANDARD
TZOFFSETFROM:-0400
TZOFFSETTO:-0500
TZNAME:EST
DTSTART:20261101T060000
END:STANDARD
END:VTIMEZONE
BEGIN:VEVENT
DTSTART;TZID=America/New_York:20250924T100000
DTEND;TZID=America/New_York:20250924T113000
DTSTAMP:20260425T171756
CREATED:20250807T154355Z
LAST-MODIFIED:20260326T171141Z
UID:22153-1758708000-1758713400@www.flls.org
SUMMARY:Creating a Sharing Culture by Setting Clear Boundaries
DESCRIPTION:Every organization has a culture with spoken and unspoken “rules”. These “rules” include how much we are expected to share of our personal lives outside of work. This interactive workshop will provide participants with insight into your library’s culture of sharing and create space for you to identify how and where you fit into its culture-building efforts. With increased sharing comes greater responsibility-to feedback. Who is empowered to give feedback and set boundaries on what they are willing or unwilling to share? How do these boundaries look peer to peer and across power differentials e.g.\, supervisor to employee? Can pressuring our colleagues to share their personal stories create dysfunction on the team-or make it stronger? We will introduce and discuss several practical models and participants will leave with additional resources to practice and explore. \nPresenter Bio: Mike Bishop Ph.D. is an educator and coach who has facilitated interactive workshops with a focus on human development\, human rights\, and human dignity for 25 years. He is a Freeville resident who organizes with his White neighbors against White supremacy through his activism\, research\, teaching\, and writing. Originally from a small town in western New York\, he spent seven years as a youth counselor leading adventure-based activities. He then worked in higher education for more than 20 years leading workshops\, creating campus-community partnerships\, facilitating dialogues across differences\, and designing social action leadership programs. Mike works with stories to nurture anti-racist allies\, growing social movements to challenge policies that dehumanize Black\, Indigenous\, and other people of color in rural New York state. He currently serves as the managing director of the Community-Based Global Learning Collaborative.
URL:https://www.flls.org/singleevent/creating-a-sharing-culture-by-setting-clear-boundaries/
LOCATION:Online via Zoom
CATEGORIES:Continuing Education
END:VEVENT
END:VCALENDAR