BEGIN:VCALENDAR
VERSION:2.0
PRODID:-//Finger Lakes Library System - ECPv6.15.18//NONSGML v1.0//EN
CALSCALE:GREGORIAN
METHOD:PUBLISH
X-WR-CALNAME:Finger Lakes Library System
X-ORIGINAL-URL:https://www.flls.org
X-WR-CALDESC:Events for Finger Lakes Library System
REFRESH-INTERVAL;VALUE=DURATION:PT1H
X-Robots-Tag:noindex
X-PUBLISHED-TTL:PT1H
BEGIN:VTIMEZONE
TZID:America/New_York
BEGIN:DAYLIGHT
TZOFFSETFROM:-0500
TZOFFSETTO:-0400
TZNAME:EDT
DTSTART:20240310T070000
END:DAYLIGHT
BEGIN:STANDARD
TZOFFSETFROM:-0400
TZOFFSETTO:-0500
TZNAME:EST
DTSTART:20241103T060000
END:STANDARD
BEGIN:DAYLIGHT
TZOFFSETFROM:-0500
TZOFFSETTO:-0400
TZNAME:EDT
DTSTART:20250309T070000
END:DAYLIGHT
BEGIN:STANDARD
TZOFFSETFROM:-0400
TZOFFSETTO:-0500
TZNAME:EST
DTSTART:20251102T060000
END:STANDARD
BEGIN:DAYLIGHT
TZOFFSETFROM:-0500
TZOFFSETTO:-0400
TZNAME:EDT
DTSTART:20260308T070000
END:DAYLIGHT
BEGIN:STANDARD
TZOFFSETFROM:-0400
TZOFFSETTO:-0500
TZNAME:EST
DTSTART:20261101T060000
END:STANDARD
END:VTIMEZONE
BEGIN:VEVENT
DTSTART;TZID=America/New_York:20251007T120000
DTEND;TZID=America/New_York:20251007T130000
DTSTAMP:20260425T155618
CREATED:20250814T181422Z
LAST-MODIFIED:20260326T171156Z
UID:22159-1759838400-1759842000@www.flls.org
SUMMARY:FLLS Community Read: Session 2
DESCRIPTION:Finger Lakes Library System is holding a system-wide community read for the title\, The 12 Steps to a Community-Led Library by Audrey Barbakoff and Noah Lenstra. Each member library will receive a copy of the book. All library staff are welcome to attend. Session will be facilitated by Jenny & Heidi. \nIn this session\, we will discuss… Part III: Transformational Change\, Part IV: Operational Change\, Part V: Evaluating\, Adapting\, and Troubleshooting\, & Conclusion: Moving Forward and Coming Back. \n  \n 
URL:https://www.flls.org/singleevent/flls-community-read-session-2/
LOCATION:Online via Zoom
CATEGORIES:Continuing Education
END:VEVENT
END:VCALENDAR